BEGIN:VCALENDAR
METHOD:PUBLISH
VERSION:2.0
PRODID:-//Stuff The Bus//Calendar//EN

BEGIN:VEVENT
SUMMARY:Henry County | Stuff The Bus
DESCRIPTION:
X-ALT-DESC:
UID:Event8603
DTSTART:20250621T130000Z
DTEND:20250621T180000Z
DTSTAMP:20250611T191609Z
LAST-MODIFIED:20250611T191609Z
END:VEVENT

END:VCALENDAR